BEGIN:VCALENDAR
VERSION:2.0
PRODID:-//Bluechip Infotech New Zealand Limited - ECPv6.15.20//NONSGML v1.0//EN
CALSCALE:GREGORIAN
METHOD:PUBLISH
X-WR-CALNAME:Bluechip Infotech New Zealand Limited
X-ORIGINAL-URL:https://www.bluechipit.co.nz
X-WR-CALDESC:Events for Bluechip Infotech New Zealand Limited
REFRESH-INTERVAL;VALUE=DURATION:PT1H
X-Robots-Tag:noindex
X-PUBLISHED-TTL:PT1H
BEGIN:VTIMEZONE
TZID:Pacific/Auckland
BEGIN:STANDARD
TZOFFSETFROM:+1300
TZOFFSETTO:+1200
TZNAME:NZST
DTSTART:20250405T140000
END:STANDARD
BEGIN:DAYLIGHT
TZOFFSETFROM:+1200
TZOFFSETTO:+1300
TZNAME:NZDT
DTSTART:20250927T140000
END:DAYLIGHT
BEGIN:STANDARD
TZOFFSETFROM:+1300
TZOFFSETTO:+1200
TZNAME:NZST
DTSTART:20260404T140000
END:STANDARD
BEGIN:DAYLIGHT
TZOFFSETFROM:+1200
TZOFFSETTO:+1300
TZNAME:NZDT
DTSTART:20260926T140000
END:DAYLIGHT
BEGIN:STANDARD
TZOFFSETFROM:+1300
TZOFFSETTO:+1200
TZNAME:NZST
DTSTART:20270403T140000
END:STANDARD
BEGIN:DAYLIGHT
TZOFFSETFROM:+1200
TZOFFSETTO:+1300
TZNAME:NZDT
DTSTART:20270925T140000
END:DAYLIGHT
END:VTIMEZONE
BEGIN:VEVENT
DTSTART;TZID=Pacific/Auckland:20260325T153000
DTEND;TZID=Pacific/Auckland:20260325T173000
DTSTAMP:20260424T112455
CREATED:20260312T003617Z
LAST-MODIFIED:20260323T203643Z
UID:987499160-1774452600-1774459800@www.bluechipit.co.nz
SUMMARY:Bluechip IT Presents: Happy Hour with Yealink - Meeting Rooms Update & Product Showcase
DESCRIPTION:Product Showcase & MTR Update with Yealink & Bluechip IT\n\n\n\n\n\nNetwork with fellow resellers over drinks and explore Yealink’s cutting-edge video conferencing solutions\, including their suite of AI-powered technologies. \nThis event will be hosted by the Bluechip IT BDM team and Brandon Zhou\, Country Manager ANZ MS Products \, will present market trends and products fit for small to medium sized meeting rooms. \n\n\n\n\n\nAgenda:\n3.30 pm – Registration and Networking Drinks \n4.00 pm – Welcome Note by Bluechip IT BDM Team & Introduction to Yealink MTR \n     – Market Trends \n    – Solutions for Huddle\, Small\, Medium Meeting Rooms \n     – Yealink Tool Introduction \n5.00 pm: Giveaway & Networking \n\n\n\n\n\n\n\n\n\n\n\n\n\n\n\n\n\n\n\n\n\n\n\n\n\n\n\nYour Bluechip Live Event\n\n\n\n\n\n\n\nRegister Here\n\n\n\n\n\n\n\n\n\n\n\nPrize Giveaway: 2 x Headsets will be up for grabs during the event\, attend to find out which ones!\nParking: Free parking beside the venue and paid street parking is available too. \nImportant information: This is an R18 event and only for Bluechip IT partners. The event is restricted to 2 per reseller. We will be serving alcohol at the event so if you’re planning on drinking\, please consider taking an Uber or Bolt. If you’ve registered and can’t make it\, please let us know atleast 48 hours in advance. \n\n\n\n\n\n\n\n\n\n\n\n\n\n\n\n\n\n\n\n\n\n\n\n\n\n\n\nVenue\n\n\n\n\n\n\n\n\n\n\n\nThe Good Home Mt Eden37 Normanby Rd\, Mount Eden\, Auckland\, Auckland\, Auckland – 1024 New Zealand \n\nGet Directions\n\n\n\n\n\n\n\n\n\n\n\n\n\n\n\n\n\n\n\n\n\n\n\n\n\n\n\n\n\n\n\n\n\n\n\n\n\n\n\nAll thanks to our Event Sponsor
URL:https://www.bluechipit.co.nz/event/bluechip-it-presents-happy-hour-with-yealink-meeting-rooms-update-product-showcase/
LOCATION:The Good Home Gastropub\, 37 Normanby Road\, Mount Eden\, Auckland\, 1024\, New Zealand
CATEGORIES:Bluechip Infotech New Zealand Ltd,Unified Communications,Yealink
ATTACH;FMTTYPE=image/jpeg:https://www.bluechipit.co.nz/wp-content/uploads/2026/03/2026-Event-Posters.jpg
END:VEVENT
END:VCALENDAR