BEGIN:VCALENDAR
VERSION:2.0
PRODID:-//Bluechip Infotech New Zealand Limited - ECPv6.15.20//NONSGML v1.0//EN
CALSCALE:GREGORIAN
METHOD:PUBLISH
X-ORIGINAL-URL:https://www.bluechipit.co.nz
X-WR-CALDESC:Events for Bluechip Infotech New Zealand Limited
REFRESH-INTERVAL;VALUE=DURATION:PT1H
X-Robots-Tag:noindex
X-PUBLISHED-TTL:PT1H
BEGIN:VTIMEZONE
TZID:Pacific/Auckland
BEGIN:STANDARD
TZOFFSETFROM:+1300
TZOFFSETTO:+1200
TZNAME:NZST
DTSTART:20240406T140000
END:STANDARD
BEGIN:DAYLIGHT
TZOFFSETFROM:+1200
TZOFFSETTO:+1300
TZNAME:NZDT
DTSTART:20240928T140000
END:DAYLIGHT
BEGIN:STANDARD
TZOFFSETFROM:+1300
TZOFFSETTO:+1200
TZNAME:NZST
DTSTART:20250405T140000
END:STANDARD
BEGIN:DAYLIGHT
TZOFFSETFROM:+1200
TZOFFSETTO:+1300
TZNAME:NZDT
DTSTART:20250927T140000
END:DAYLIGHT
BEGIN:STANDARD
TZOFFSETFROM:+1300
TZOFFSETTO:+1200
TZNAME:NZST
DTSTART:20260404T140000
END:STANDARD
BEGIN:DAYLIGHT
TZOFFSETFROM:+1200
TZOFFSETTO:+1300
TZNAME:NZDT
DTSTART:20260926T140000
END:DAYLIGHT
END:VTIMEZONE
BEGIN:VEVENT
DTSTART;TZID=Pacific/Auckland:20251016T160000
DTEND;TZID=Pacific/Auckland:20251016T193000
DTSTAMP:20260424T181614
CREATED:20250910T231332Z
LAST-MODIFIED:20250921T234516Z
UID:987496755-1760630400-1760643000@www.bluechipit.co.nz
SUMMARY:Bluechip IT Great Royale Christchurch Game Night
DESCRIPTION:A Night of Fun\, Games & Connections. \n\n\n\n\n\nExperience the energy of Las Vegas in a playful\, light-hearted way at Bluechip’s exclusive event! You will enjoy classic games like roulette\, blackjack\, and more – all played with fun money\, so it’s all about entertainment\, not stakes. \nWhether you’re a game enthusiast or just curious to try something new\, this event is designed for enjoyment\, connection\, and engaging with our sponsored vendors in a relaxed and vibrant setting over drinks and nibbles. \n\n\n\n\n\nImportant Things to Note:\n1. Please note that this is an R18 event and for Bluechip NZ partners only. \n2. This event is intended solely for entertainment purposes and does not promote gambling. No real money will be involved. \n3. When registering for your ticket\, please use your work email address. Once submitted\, our team will review and approve your ticket if you qualify. You will receive a confirmation email once your ticket is approved. \n4. Parking: There is a large car park opposite the hotel\, which is the most convenient option for anyone driving in. This car park offers hourly or daily rates and is managed by a company called Mainland. There is also council street parking available around the hotel\, which is ideal for guests visiting for a short period of time. \n5. We expect this event to be in high demand. If you register but are unable to attend\, please notify us at least 48 hours before the event date. We usually have a waiting list of partners who would like to attend the event. \n\n\n\n\n\n\n\n\n\n\n\n\n\n\n\n\n\n\n\n\n\n\n\n\n\n\n\nYour Great Royale Game Night Experience\n\nLearn More\n\n\n\n\n\n\n\n\n\n\n\nAttendees will be in the draw to win a Nintendo Switch 2.\nAnd many more spot prizes sponsored by our lovely vendors.\n\n\n\n\n\n\n\n\n\n\n\n\n\n\n\n\n\n\n\n\n\n\n\n\n\n\n\n\n\n\n\n\n\nVenue\n\n\n\n\n\n\n\n\n\n\n\nCrowne Plaza Christchurch by IHG\n764 Colombo Street\, Christchurch Central\, Canterbury 8011\n\nGet Directions\n\n\n\n\n\n\n\n\n\n\n\n\n\n\n\n\n\n\n\n\n\n\n\n\n\n\n\n\n\n\n\n\n\n\n\n\n\n\n\nOur Sponsors\n\n\n\n\n\n\n\n\n\n\n\n\n\n\n\n\n\n\n\n\n\n\n\n\n\n\n\n\n\n\n\n\n\n\n\n\n\n\n\n\n\n\n\n\n\n\n\n\n\n\n\n\n\n\n\n\n\n\n\n\n\n\n\n\n\n\n\n\n\n\n\n\n\n\n\n\n\n\n\n\n\n\n\n\n\n\n\n\n\n\n\n\n\n\n\n\n\n\n\n\n\n\n\n\n\n\n\n\n\n\n\n\n\n\n\n\n\n\n\n\n\n\n\n\n\n\n\n\n\n\n\n\n\n\n\n\n\n\n\n\n\n\n\n\n\n\n\n\n\n\n\n\n\n\n\n\n\n\n\n\n\n\n\n\n\n\n\n\n\n\n\n\n\n\n\n\n\n\n\n\n\n\n\nRegister Now!\n\n\n\n\n\nWhether you’re a game enthusiast or just curious to try something new\, this event is designed for enjoyment\, connection\, and engaging with our sponsored vendors in a relaxed and vibrant setting over drinks and nibbles. Come join our Game Night!\n\nRegister Here
URL:https://www.bluechipit.co.nz/event/bluechip-it-great-royale-christchurch-game-night/
LOCATION:Crowne Plaza Christchurch by IHG\, 764 Colombo Street\, Christchurch\, Canterbury\, 8011\, New Zealand
CATEGORIES:Bluechip Infotech New Zealand Ltd,Coro,Keeper,Lansweeper,Liongard,N-able,Unified Communications,Yealink
ATTACH;FMTTYPE=image/png:https://www.bluechipit.co.nz/wp-content/uploads/2025/09/Christchurch-great-royale-game-night-christchurch-event-page-image-1.png
END:VEVENT
END:VCALENDAR