BEGIN:VCALENDAR
VERSION:2.0
PRODID:-//Bluechip Infotech New Zealand Limited - ECPv6.15.20//NONSGML v1.0//EN
CALSCALE:GREGORIAN
METHOD:PUBLISH
X-ORIGINAL-URL:https://www.bluechipit.co.nz
X-WR-CALDESC:Events for Bluechip Infotech New Zealand Limited
REFRESH-INTERVAL;VALUE=DURATION:PT1H
X-Robots-Tag:noindex
X-PUBLISHED-TTL:PT1H
BEGIN:VTIMEZONE
TZID:Pacific/Auckland
BEGIN:STANDARD
TZOFFSETFROM:+1300
TZOFFSETTO:+1200
TZNAME:NZST
DTSTART:20250405T140000
END:STANDARD
BEGIN:DAYLIGHT
TZOFFSETFROM:+1200
TZOFFSETTO:+1300
TZNAME:NZDT
DTSTART:20250927T140000
END:DAYLIGHT
BEGIN:STANDARD
TZOFFSETFROM:+1300
TZOFFSETTO:+1200
TZNAME:NZST
DTSTART:20260404T140000
END:STANDARD
BEGIN:DAYLIGHT
TZOFFSETFROM:+1200
TZOFFSETTO:+1300
TZNAME:NZDT
DTSTART:20260926T140000
END:DAYLIGHT
BEGIN:STANDARD
TZOFFSETFROM:+1300
TZOFFSETTO:+1200
TZNAME:NZST
DTSTART:20270403T140000
END:STANDARD
BEGIN:DAYLIGHT
TZOFFSETFROM:+1200
TZOFFSETTO:+1300
TZNAME:NZDT
DTSTART:20270925T140000
END:DAYLIGHT
END:VTIMEZONE
BEGIN:VEVENT
DTSTART;TZID=Pacific/Auckland:20260428T084500
DTEND;TZID=Pacific/Auckland:20260429T163000
DTSTAMP:20260421T201028
CREATED:20260323T223657Z
LAST-MODIFIED:20260323T223827Z
UID:987499316-1777365900-1777480200@www.bluechipit.co.nz
SUMMARY:3CX April Technical Trainings
DESCRIPTION:Two Days of 3CX Technical Training\n\n\n\n\n\nWe’re delighted to have Nicholas Paras\, the CEO and Technical Trainer of Paratech\, running our upcoming 3CX Basic and Advanced technical training sessions. Many of you will be familiar with Nicholas\, who was formerly the 3CX Technical Trainer for over 10 years. Nicholas now specialises in 3CX training and services and will be delivering our training sessions in April. \n\n\n\n\n\n\n3CX Basic Technical Training = Tuesday 28th April 8.45am to 4.30pm Online\n3CX Advanced Technical Training = Wednesday 29th April 8.45am to 4.30pm Online.\n\n\n\n\n\n\nIMPORTANT: Preparation to complete prior to the training:\nCreate/register your 3CX account: \n\nTo sit the 3CX exams\, you’ll need your own personal account. This account can be linked to the business to show your certifications for the company.\nVisit: https://www.3cx.com/try/?ft=n&source=account-creation to register your account\, have your 3CX company admin link your account to the business.\n\nPre-reading materials: \n\nVisit the 3CX Academy landing page here – note the recommended reading guides.\nVisit the Basic Certification landing page here and complete the pre-reading materials.\nVisit the Advanced Certification landing page here and complete the pre-reading materials.\n\n\n\n\n\n\nWhat’s covered on each day:\nDay 1 – Basic Technical Training: \n\nChapter 1: Hosted by 3CX or 3CX SMB – Small Business\nChapter 2: Set up your Team\nChapter 3: SIP Trunks\nChapter 4: IP Phone Provisioning & Apps\nChapter 5: Call Handling\nChapter 6: Messaging\n\nDay 2 – Advanced Technical Training: \n\nChapter 7: 3CX On-premise & Self-Hosting\nChapter 8: Firewall Configuration\nChapter 9: Backup & Restore\nChapter 10: Bridges\nChapter 11: Basic Troubleshooting\nChapter 12: Security & Anti-fraud\n\n\n\n\n\n\n\n\n\n\n\n\n\n\n\n\n\n\n\n\n\n\n\n\n\n\n\n\nYour Bluechip Online Event\n\n\n\n\n\n\n\nRegister Here\n\n\n\n\n\n\n\n\n\n\n\nImportant information: It’s imperative that each person has their own computer and headset to avoid distractions for themselves and other participants in the day. Questions and discussion are highly encouraged for all participants to gain as much knowledge as possible. \nAt 8.45 am each day: Attendees login\, ensure they have 3CX Accounts to sit the exams against and no technology issues. 8.55am: Welcome from Megan with basic housekeeping. 9.00am: Session 1 will start with the first two modules. 11.00am: 15-min break after first two modules. 11.15am: Session 2 with the next two modules. 1.15pm: 45 min lunch break. 2.00pm: Session 3 with the last two modules for the day. 4.00pm: End of training\, all candidates to sit exams before end of day. Attendees to send certificates to uc@bluechipit.co.nz. Should a participant not pass the exam\, they should email uc@bluechipit.co.nz and we’ll arrange additional assitance and revision once the stand down period has passed.
URL:https://www.bluechipit.co.nz/event/3cx-april-technical-trainings/
LOCATION:Online
CATEGORIES:3CX,Bluechip Infotech New Zealand Ltd,Unified Communications
ATTACH;FMTTYPE=image/jpeg:https://www.bluechipit.co.nz/wp-content/uploads/2026/03/3CX-tech-training-april-event-Image-1-1200-x-627.jpg
END:VEVENT
END:VCALENDAR