BEGIN:VCALENDAR
VERSION:2.0
PRODID:-//Bluechip Infotech New Zealand Limited - ECPv6.15.20//NONSGML v1.0//EN
CALSCALE:GREGORIAN
METHOD:PUBLISH
X-ORIGINAL-URL:https://www.bluechipit.co.nz
X-WR-CALDESC:Events for Bluechip Infotech New Zealand Limited
REFRESH-INTERVAL;VALUE=DURATION:PT1H
X-Robots-Tag:noindex
X-PUBLISHED-TTL:PT1H
BEGIN:VTIMEZONE
TZID:Pacific/Auckland
BEGIN:STANDARD
TZOFFSETFROM:+1300
TZOFFSETTO:+1200
TZNAME:NZST
DTSTART:20250405T140000
END:STANDARD
BEGIN:DAYLIGHT
TZOFFSETFROM:+1200
TZOFFSETTO:+1300
TZNAME:NZDT
DTSTART:20250927T140000
END:DAYLIGHT
BEGIN:STANDARD
TZOFFSETFROM:+1300
TZOFFSETTO:+1200
TZNAME:NZST
DTSTART:20260404T140000
END:STANDARD
BEGIN:DAYLIGHT
TZOFFSETFROM:+1200
TZOFFSETTO:+1300
TZNAME:NZDT
DTSTART:20260926T140000
END:DAYLIGHT
BEGIN:STANDARD
TZOFFSETFROM:+1300
TZOFFSETTO:+1200
TZNAME:NZST
DTSTART:20270403T140000
END:STANDARD
BEGIN:DAYLIGHT
TZOFFSETFROM:+1200
TZOFFSETTO:+1300
TZNAME:NZDT
DTSTART:20270925T140000
END:DAYLIGHT
END:VTIMEZONE
BEGIN:VEVENT
DTSTART;TZID=Pacific/Auckland:20260318T163000
DTEND;TZID=Pacific/Auckland:20260318T190000
DTSTAMP:20260421T224653
CREATED:20260217T022755Z
LAST-MODIFIED:20260217T024034Z
UID:987498576-1773851400-1773860400@www.bluechipit.co.nz
SUMMARY:Drive Connect Waikato!
DESCRIPTION:An evening of Golf & Connections\n\n\n\n\n\nBCIT team is coming to Hamilton and we’re inviting all our Waikato-based reseller partners to an easy-going evening mixer at the Prodrive driving range in Hamilton. \nCome for relaxed networking with our Bluechip team and fellow reseller partners while enjoying drinks and nibbles. Answer a quick quiz on our sponsored vendors and go in the draw for some really cool vendor sponsored spot prizes on the day of the event. \nFree parking at the venue. \nEnter our Quiz below to be eligible to win awesome spot prizes at the event! \n\ncomplete quiz here\n\n\n\n\n\n\n\n\n\n\n\n\n\n\n\n\n\n\n\n\n\n\n\n\n\n\n\nYour Bluechip Live Event\n\n\n\n\n\n\n\nRegister Here\n\n\n\n\n\n\n\n\n\n\n\nBe in the draw to WIN META Quest 3s Mixed Reality Headset with 2x Quest Touch Plus Controllers\nAnd many more spot prizes sponsored by our lovely vendors 🙂 \nHow to qualify for spot prizes? \n1. Complete our vendor quiz [3 mins] before the event \n2. Join us at the Prodrive Golf Range on the 18th March \n3. Winners will be announced at the end of the event. \n\n\n\n\n\n\n\n\n\n\n\n\n\n\n\n\n\n\n\n\n\n\n\n\n\n\n\nVenue\n\n\n\n\n\n\n\n\n\n\n\nProdrive GolfBeetham Park Ulster St\, Hamilton North\, Hamilton\, Waikato Region – 3200 New Zealand \n\nGet Directions\n\n\n\n\n\n\n\n\n\n\n\n\n\n\n\n\n\n\n\n\n\n\n\n\n\n\n\n\n\n\n\n\n\n\n\n\n\n\n\nOur Sponsors
URL:https://www.bluechipit.co.nz/event/drive-connect-waikato/
LOCATION:Prodrive Golf\, Beetham Park Ulster St\, Hamilton North\, Hamilton\, Waikato Region\, 3200\, New Zealand
CATEGORIES:Arcserve,Bluechip Infotech New Zealand Ltd,ManageEngine,N-able,usecure
ATTACH;FMTTYPE=image/jpeg:https://www.bluechipit.co.nz/wp-content/uploads/2026/02/drive-connect-waikato-event-image-1-1200-x-627.jpg
END:VEVENT
END:VCALENDAR