BEGIN:VCALENDAR
VERSION:2.0
PRODID:-//Bluechip Infotech New Zealand Limited - ECPv6.15.20//NONSGML v1.0//EN
CALSCALE:GREGORIAN
METHOD:PUBLISH
X-ORIGINAL-URL:https://www.bluechipit.co.nz
X-WR-CALDESC:Events for Bluechip Infotech New Zealand Limited
REFRESH-INTERVAL;VALUE=DURATION:PT1H
X-Robots-Tag:noindex
X-PUBLISHED-TTL:PT1H
BEGIN:VTIMEZONE
TZID:Pacific/Auckland
BEGIN:STANDARD
TZOFFSETFROM:+1300
TZOFFSETTO:+1200
TZNAME:NZST
DTSTART:20250405T140000
END:STANDARD
BEGIN:DAYLIGHT
TZOFFSETFROM:+1200
TZOFFSETTO:+1300
TZNAME:NZDT
DTSTART:20250927T140000
END:DAYLIGHT
BEGIN:STANDARD
TZOFFSETFROM:+1300
TZOFFSETTO:+1200
TZNAME:NZST
DTSTART:20260404T140000
END:STANDARD
BEGIN:DAYLIGHT
TZOFFSETFROM:+1200
TZOFFSETTO:+1300
TZNAME:NZDT
DTSTART:20260926T140000
END:DAYLIGHT
BEGIN:STANDARD
TZOFFSETFROM:+1300
TZOFFSETTO:+1200
TZNAME:NZST
DTSTART:20270403T140000
END:STANDARD
BEGIN:DAYLIGHT
TZOFFSETFROM:+1200
TZOFFSETTO:+1300
TZNAME:NZDT
DTSTART:20270925T140000
END:DAYLIGHT
END:VTIMEZONE
BEGIN:VEVENT
DTSTART;TZID=Pacific/Auckland:20260312T150000
DTEND;TZID=Pacific/Auckland:20260312T173000
DTSTAMP:20260423T214000
CREATED:20260216T232258Z
LAST-MODIFIED:20260216T233948Z
UID:987498555-1773327600-1773336600@www.bluechipit.co.nz
SUMMARY:Driving Partner Success in 2026 with N-able - Christchurch
DESCRIPTION:You’re invited to our Christchurch Partner Appreciation Event\n\n\n\n\n\nWe’re bringing our Christchurch partners together for a relaxed evening to say a genuine thank you for your continued support. \nThere’s no sales pitch — this evening is simply about you and your team networking with both Bluechip and N-able staff\, and address any questions you have but more importantly have a good time. \nBring your team along for an evening of golf simulators\, drinks\, and nibbles and bring your A-game because we’ll have a few fun spot prizes on the night\, including best dressed\, longest drive\, and shortest stroke! \n\n\n\n\n\nAgenda:\n3.00pm – Registration & Networking drinks \n3.45pm – Welcome note by N-able \n4.00pm – Golf Simulator \n5.30pm – Prize Giving & End \n\n\n\n\n\nFree parking available at the venue. See you there! \n\n\n\n\n\n\n\n\n\n\n\n\n\n\n\n\n\n\n\n\n\n\n\n\n\n\n\nYour N-able Live Event in Christchurch\n\nRegister Here\n\n\n\n\n\n\n\n\n\n\n\n\n\n\n\n\n\n\n\n\n\n\n\n\n\n\n\nVenue\n\n\n\n\n\n\n\n\n\n\n\nThe Range2/1 Lake Bryndwr Lane\, Burnside\, Christchurch\, Canterbury Region – 8053 New Zealand \n\nGet Directions\n\n\n\n\n\n\n\n\n\n\n\n\n\n\n\n\n\n\n\n\n\n\n\n\n\n\n\n\n\n\n\n\n\n\n\n\n\n\n\nOur Sponsors
URL:https://www.bluechipit.co.nz/event/driving-partner-success-in-2026-with-n-able/
LOCATION:The Range\, 2/1 Lake Bryndwr Lane\, Burnside\, Christchurch\, Canterbury Region\, 8053\, New Zealand
CATEGORIES:Bluechip Infotech New Zealand Ltd,N-able
ATTACH;FMTTYPE=image/jpeg:https://www.bluechipit.co.nz/wp-content/uploads/2026/02/Driving-partner-success-in-2026-with-nable-event-website-image-1.jpg
END:VEVENT
END:VCALENDAR