BEGIN:VCALENDAR
VERSION:2.0
PRODID:-//Bluechip Infotech New Zealand Limited - ECPv6.15.20//NONSGML v1.0//EN
CALSCALE:GREGORIAN
METHOD:PUBLISH
X-WR-CALNAME:Bluechip Infotech New Zealand Limited
X-ORIGINAL-URL:https://www.bluechipit.co.nz
X-WR-CALDESC:Events for Bluechip Infotech New Zealand Limited
REFRESH-INTERVAL;VALUE=DURATION:PT1H
X-Robots-Tag:noindex
X-PUBLISHED-TTL:PT1H
BEGIN:VTIMEZONE
TZID:Pacific/Auckland
BEGIN:STANDARD
TZOFFSETFROM:+1300
TZOFFSETTO:+1200
TZNAME:NZST
DTSTART:20230401T140000
END:STANDARD
BEGIN:DAYLIGHT
TZOFFSETFROM:+1200
TZOFFSETTO:+1300
TZNAME:NZDT
DTSTART:20230923T140000
END:DAYLIGHT
BEGIN:STANDARD
TZOFFSETFROM:+1300
TZOFFSETTO:+1200
TZNAME:NZST
DTSTART:20240406T140000
END:STANDARD
BEGIN:DAYLIGHT
TZOFFSETFROM:+1200
TZOFFSETTO:+1300
TZNAME:NZDT
DTSTART:20240928T140000
END:DAYLIGHT
BEGIN:STANDARD
TZOFFSETFROM:+1300
TZOFFSETTO:+1200
TZNAME:NZST
DTSTART:20250405T140000
END:STANDARD
BEGIN:DAYLIGHT
TZOFFSETFROM:+1200
TZOFFSETTO:+1300
TZNAME:NZDT
DTSTART:20250927T140000
END:DAYLIGHT
END:VTIMEZONE
BEGIN:VEVENT
DTSTART;TZID=Pacific/Auckland:20240507T150000
DTEND;TZID=Pacific/Auckland:20240507T170000
DTSTAMP:20260422T033643
CREATED:20240429T231142Z
LAST-MODIFIED:20240501T205353Z
UID:250272-1715094000-1715101200@www.bluechipit.co.nz
SUMMARY:Cybersecurity for SMBs - Guardz Launch
DESCRIPTION:Cybersecurity for SMBs - Guardz Launch\nMay 7\, 2024 | Auckland\, NZ\nGuardz\, the cybersecurity company\, has officially launched in New Zealand. In collaboration with ManageProtect\, Guardz aims to empower Managed Service Providers (MSPs) in protecting and insuring Small and Medium-sized Businesses (SMBs). \nAndrew Johnson\, the CEO of ManageProtect\, will provide a comprehensive demo of the platform\, which includes cool features like a free cyber risk prospecting report and a phishing simulation. This tailored solution enhances cybersecurity for New Zealand SMB businesses\, ensuring their digital safety and resilience. \nHere’s what sets Guardz apart: \n·      Effortless Multi-Client Management: Manage and secure all your SMB clients from a single\, unified dashboard. \n·      AI-Powered Defense: Guardz utilises cutting-edge AI and machine learning to stay ahead of evolving cyber threats. It proactively identifies and neutralises phishing attacks\, ransomware\, and data breaches before they cripple your clients’ businesses. \n·      Automated Response\, 24/7 Vigilance: Guardz doesn’t just detect threats – it takes action. Automated threat response systems automatically contain attacks\, minimizing damage and downtime. This gives you peace of mind knowing your clients are protected around the clock. \n·      Upcoming Cybersecurity Insurance ready: Guardz is currently working on providing automatic integration into cyber insurance companies in NZ to get you instant cyber-insurance quotes for your clients! \n3 Reasons Why MSPs Should Attend this exclusive event: \n1.     Gain a Competitive Advantage: Discover how Guardz can differentiate your MSP offering by providing a comprehensive\, AI-powered security solution for your SMB clients. Learn how to stand out from competitors struggling with fragmented security tools. \n2.     Boost Efficiency and Profitability: See how the unified platform simplifies multi-client security management\, saving you valuable time and resources. Gain insights into how Guardz can streamline your operations to increase your profitability. \n3.     Empower Your Clients: Explore how Guardz empowers your clients with proactive defence\, automated threat response\, and cyber insurance readiness. Learn how to position yourself as a trusted advisor\, offering a holistic solution that safeguards your customers’ business. \nRegister now to reserve your spot! \nRegister Here\n\n\n\n\n\n\n\n\n\n\n\n\n\n\n\n\n\n\n\n\n\n\n\n\n\n\n\nSpeakers\n\n\n\n\n\n\n\nAndrew Johnson\nManaging Director/ CEO Manage Protect \n\n\n\n\n\n\n\n\n\n\n\n\n\n\n\n\n\n\n\n\n\n\n\n\n\n\n\n\n\n\nWhere It’s At\nStardome Observatory & Planetarium  \n\n670 Manukau Road\, Royal Oak\,\nAuckland 1023 \n  \n\n \n\nGet Directions\n\n\n\n\n\n\n\n\n\n\n\n\n\n\n\n\n\n\n\n\n\n\n\n\n\n\n\n\n\n\n\n\n\n\n\n\n\n\n\n\n\n\n\n\n\n\n\n\n\n\n\n\n\n\n\nSubscribe to the Weekly Bulletin\n\nSubscribe
URL:https://www.bluechipit.co.nz/event/cybersecurity-for-smbs-guardz-launch/
LOCATION:Stardome Observatory & Planetarium\, 670 Manukau Road\, Royal Oak\, Auckland\, 1023\, New Zealand
CATEGORIES:Bluechip Infotech New Zealand Ltd,ManageProtect
ATTACH;FMTTYPE=image/jpeg:https://www.bluechipit.co.nz/wp-content/uploads/2024/04/cybersecurity-for-SMBs-guardz-launch-7-May-2024-banner-1.jpg
END:VEVENT
END:VCALENDAR