BEGIN:VCALENDAR
VERSION:2.0
PRODID:-//Bluechip Infotech New Zealand Limited - ECPv6.15.20//NONSGML v1.0//EN
CALSCALE:GREGORIAN
METHOD:PUBLISH
X-WR-CALNAME:Bluechip Infotech New Zealand Limited
X-ORIGINAL-URL:https://www.bluechipit.co.nz
X-WR-CALDESC:Events for Bluechip Infotech New Zealand Limited
REFRESH-INTERVAL;VALUE=DURATION:PT1H
X-Robots-Tag:noindex
X-PUBLISHED-TTL:PT1H
BEGIN:VTIMEZONE
TZID:Pacific/Auckland
BEGIN:STANDARD
TZOFFSETFROM:+1300
TZOFFSETTO:+1200
TZNAME:NZST
DTSTART:20240406T140000
END:STANDARD
BEGIN:DAYLIGHT
TZOFFSETFROM:+1200
TZOFFSETTO:+1300
TZNAME:NZDT
DTSTART:20240928T140000
END:DAYLIGHT
BEGIN:STANDARD
TZOFFSETFROM:+1300
TZOFFSETTO:+1200
TZNAME:NZST
DTSTART:20250405T140000
END:STANDARD
BEGIN:DAYLIGHT
TZOFFSETFROM:+1200
TZOFFSETTO:+1300
TZNAME:NZDT
DTSTART:20250927T140000
END:DAYLIGHT
BEGIN:STANDARD
TZOFFSETFROM:+1300
TZOFFSETTO:+1200
TZNAME:NZST
DTSTART:20260404T140000
END:STANDARD
BEGIN:DAYLIGHT
TZOFFSETFROM:+1200
TZOFFSETTO:+1300
TZNAME:NZDT
DTSTART:20260926T140000
END:DAYLIGHT
END:VTIMEZONE
BEGIN:VEVENT
DTSTART;TZID=Pacific/Auckland:20251113T110000
DTEND;TZID=Pacific/Auckland:20251113T120000
DTSTAMP:20260422T022644
CREATED:20251029T045644Z
LAST-MODIFIED:20251029T045702Z
UID:987497471-1763031600-1763035200@www.bluechipit.co.nz
SUMMARY:Webinar - Unlocking SMB1001: The NZ SMB Pathway to Certifiable Cyber Resilience
DESCRIPTION:Cyber Resilience Made Simple with SMB1001\n\n\n\n\n\nCyber attacks are a growing threat\, and New Zealand’s Small to Medium Businesses (SMBs) are increasingly targeted. But how can your business achieve robust cyber security without the complexity and cost of enterprise-level standards? \nMeet SMB1001. This webinar will demystify SMB1001\, the tiered\, globally recognised cybersecurity standard designed specifically for the unique needs and resources of NZ businesses.\n\n\n\n\n\nJoin us to learn:\n\n\n\n\n\n\n\n\n\nWhat is SMB1001? A simple\, scalable\, and cost-effective framework for cyber resilience.\n\n\n\n\n\n\n\n\n\n\n\nWhy is it Critical for NZ Businesses? Understand the rising threats and how the standard builds trust with customers\, partners\, and insurers.\n\n\n\n\n\n\n\n\n\n\n\nYour Path to Certification: Discover the Bronze to Diamond tiers and the practical steps to assess\, improve\, and validate your security posture\, turning compliance into a competitive advantage.\n\n\n\n\n\n\n\n\n\n\n\n\n\n\n\n\n\n\n\nOur Speakers:\n\n\n\n\n\n\n\n\n\n\n\n\n\n\n\n\n\n\n\n\n\n\n\nTyron Warren\nProduct Manager at Bluechip Infotech New Zealand Ltd\n\n\n\n\n\n\n\n\n\n\n\n\n\n\n\n\n\nDeme Georgiou\nVice President of Sales\, APJ at Coro.\n\n\n\n\n\n\n\n\n\n\n\n\n\n\n\n\n\nRyan Ettridge\nCo-Founder & CEO at CyberCert\n\n\n\n\n\n\n\n\n\n\n\n\n\n\n\n\n\n\n\n\n\n\n\n\n\n\n\nRegister Now!\n\n\n\n\n\nDon’t wait for a breach to take action. Register now to secure your business’s future.\n\nRegister Here
URL:https://www.bluechipit.co.nz/event/webinar-unlocking-smb1001-the-nz-smb-pathway-to-certifiable-cyber-resilience/
LOCATION:Online – Microsoft Teams\, Auckland\, 1051\, New Zealand
CATEGORIES:Bluechip Infotech New Zealand Ltd,Coro
ATTACH;FMTTYPE=image/jpeg:https://www.bluechipit.co.nz/wp-content/uploads/2025/10/Coro-Webinar-Banner-for-events-page-1200-x-627-px.jpg
END:VEVENT
END:VCALENDAR