BEGIN:VCALENDAR
VERSION:2.0
PRODID:-//Bluechip Infotech New Zealand Limited - ECPv6.15.20//NONSGML v1.0//EN
CALSCALE:GREGORIAN
METHOD:PUBLISH
X-ORIGINAL-URL:https://www.bluechipit.co.nz
X-WR-CALDESC:Events for Bluechip Infotech New Zealand Limited
REFRESH-INTERVAL;VALUE=DURATION:PT1H
X-Robots-Tag:noindex
X-PUBLISHED-TTL:PT1H
BEGIN:VTIMEZONE
TZID:Pacific/Auckland
BEGIN:STANDARD
TZOFFSETFROM:+1300
TZOFFSETTO:+1200
TZNAME:NZST
DTSTART:20230401T140000
END:STANDARD
BEGIN:DAYLIGHT
TZOFFSETFROM:+1200
TZOFFSETTO:+1300
TZNAME:NZDT
DTSTART:20230923T140000
END:DAYLIGHT
BEGIN:STANDARD
TZOFFSETFROM:+1300
TZOFFSETTO:+1200
TZNAME:NZST
DTSTART:20240406T140000
END:STANDARD
BEGIN:DAYLIGHT
TZOFFSETFROM:+1200
TZOFFSETTO:+1300
TZNAME:NZDT
DTSTART:20240928T140000
END:DAYLIGHT
BEGIN:STANDARD
TZOFFSETFROM:+1300
TZOFFSETTO:+1200
TZNAME:NZST
DTSTART:20250405T140000
END:STANDARD
BEGIN:DAYLIGHT
TZOFFSETFROM:+1200
TZOFFSETTO:+1300
TZNAME:NZDT
DTSTART:20250927T140000
END:DAYLIGHT
END:VTIMEZONE
BEGIN:VEVENT
DTSTART;TZID=Pacific/Auckland:20240314T160000
DTEND;TZID=Pacific/Auckland:20240314T180000
DTSTAMP:20260422T044215
CREATED:20240201T213231Z
LAST-MODIFIED:20240305T233217Z
UID:44105-1710432000-1710439200@www.bluechipit.co.nz
SUMMARY:Cheers & Connections: New Office Cocktail Party
DESCRIPTION:Cheers & Connections: New Office Cocktail Party\nMar 14\, 2024 | Auckland\, NZ\n  \nJoin us for an exclusive celebration at Bluechip Infotech New Zealand’s Grand Office Opening Cocktail Soiree. \nTake a VIP tour around our office and warehousing area. Indulge in a delightful cocktail-making class\, savour delectable platter food\, and witness a skilled bartender crafting exceptional cocktails\, generously sponsored by our wonderful vendors. Your presence will make this evening truly memorable! \nThe office is located in a dark grey building which you can gain access to from 656 Great South Road Ellerslie or Sultan Street Ellerslie \nAs alcoholic beverages will be served at this event\, we strongly advise using a taxi or Uber for transportation. However\, if you choose to drive\, parking details are provided below for your convenience. \nParking is available at Wilson Parking 666 Great South Road (access through Puka St) for 90 minutes free when checked-in with Parkmate. \nRegister Here\n\n\n\n\n\n\n\n\n\n\n\n\n\n\n\n\n\n\n\n\n\n\n\n\n\n\n\nSubscribe to the Weekly Bulletin\n\nSubscribe
URL:https://www.bluechipit.co.nz/event/cheers-connections-new-office-cocktail-party/
ATTACH;FMTTYPE=image/jpeg:https://www.bluechipit.co.nz/wp-content/uploads/2024/02/cocktail-party-home-page-banner-image-1.jpg
END:VEVENT
END:VCALENDAR