BEGIN:VCALENDAR
VERSION:2.0
PRODID:-//Bluechip Infotech New Zealand Limited - ECPv6.15.20//NONSGML v1.0//EN
CALSCALE:GREGORIAN
METHOD:PUBLISH
X-WR-CALNAME:Bluechip Infotech New Zealand Limited
X-ORIGINAL-URL:https://www.bluechipit.co.nz
X-WR-CALDESC:Events for Bluechip Infotech New Zealand Limited
REFRESH-INTERVAL;VALUE=DURATION:PT1H
X-Robots-Tag:noindex
X-PUBLISHED-TTL:PT1H
BEGIN:VTIMEZONE
TZID:Pacific/Auckland
BEGIN:STANDARD
TZOFFSETFROM:+1300
TZOFFSETTO:+1200
TZNAME:NZST
DTSTART:20220402T140000
END:STANDARD
BEGIN:DAYLIGHT
TZOFFSETFROM:+1200
TZOFFSETTO:+1300
TZNAME:NZDT
DTSTART:20220924T140000
END:DAYLIGHT
BEGIN:STANDARD
TZOFFSETFROM:+1300
TZOFFSETTO:+1200
TZNAME:NZST
DTSTART:20230401T140000
END:STANDARD
BEGIN:DAYLIGHT
TZOFFSETFROM:+1200
TZOFFSETTO:+1300
TZNAME:NZDT
DTSTART:20230923T140000
END:DAYLIGHT
BEGIN:STANDARD
TZOFFSETFROM:+1300
TZOFFSETTO:+1200
TZNAME:NZST
DTSTART:20240406T140000
END:STANDARD
BEGIN:DAYLIGHT
TZOFFSETFROM:+1200
TZOFFSETTO:+1300
TZNAME:NZDT
DTSTART:20240928T140000
END:DAYLIGHT
END:VTIMEZONE
BEGIN:VEVENT
DTSTART;TZID=Pacific/Auckland:20230523T140000
DTEND;TZID=Pacific/Auckland:20230523T160000
DTSTAMP:20260424T081552
CREATED:20230501T045837Z
LAST-MODIFIED:20230503T225501Z
UID:41716-1684850400-1684857600@www.bluechipit.co.nz
SUMMARY:Unleash the Success of Data Protection & Business Mentors - Auckland
DESCRIPTION:Unleash the Success of Data Protection & Business Mentors - Auckland\nMay 23\, 2023 | Auckland\, NZ\nThis must-attend event brings together the expertise of CyberPower UPS and ArcServe SaaS Backup solutions to provide you with a comprehensive solution for protecting your critical data and ensuring uninterrupted power supply. These industry?leading solutions work seamlessly together to safeguard your valuable data and secure your operations for the future. You’ll gain invaluable insights into how these solutions can help you mitigate downtime risks\, improve data availability\, and ensure business continuity in the face of power outages\, hardware failures\, and other IT disasters. \nBut we’re not stopping there! In addition\, we are excited to have a guest speaker from Business Mentors New Zealand\, the only independent national business mentoring service provider for small businesses in New Zealand. You will have the opportunity to learn how they help businesses achieve their business goals in today’s competitive environment. \nNetwork with like-minded professionals\, ask questions about how Business Mentor NZ can help your business\, and get personalised advice on how to safeguard your data and protect your business. And\, to cap off the evening\, we’ll be treating you to a whisky tasting experience that you won’t forget!. \nRegister now to secure your spot. \nBook Here\n\n\n\n\n\n\n\n\n\n\n\n\n\n\n\n\n\n\n\n\n\n\n\n\n\n\n\nWhere It’s At\nWin-Win Bar\n212 Ponsonby Road\nAuckland 1011\n\nGet Directions\n\n\n\n\n\n\n\n\n\n\n\n\n\n\n\n\n\n\n\n\n\n\n\n\n\n\n\n\n\n\n\n\n\n\n\n\n\n\n\n\n\n\n\n\n\n\n\n\n\n\n\n\n\n\n\nSubscribe to the Weekly Bulletin\n\nSubscribe
URL:https://www.bluechipit.co.nz/event/unleash-the-success-of-data-protection-business-mentors-auckland/
LOCATION:Win-Win Bar\, 212 Ponsonby Road\, Auckland\, 1011\, New Zealand
CATEGORIES:Arcserve,CyberPower
ATTACH;FMTTYPE=image/jpeg:https://www.bluechipit.co.nz/wp-content/uploads/2023/05/arcserve-business-mentor-Auckland-social-banner-1.jpg
ORGANIZER;CN="Soft Solutions Ltd":MAILTO:sales@sofsol.co.nz
END:VEVENT
END:VCALENDAR